BEGIN:VCALENDAR
VERSION:2.0
PRODID:-//Judo-Club Herrenberg e.V. - ECPv6.15.17//NONSGML v1.0//EN
CALSCALE:GREGORIAN
METHOD:PUBLISH
X-ORIGINAL-URL:https://judo-herrenberg.de
X-WR-CALDESC:Veranstaltungen für Judo-Club Herrenberg e.V.
REFRESH-INTERVAL;VALUE=DURATION:PT1H
X-Robots-Tag:noindex
X-PUBLISHED-TTL:PT1H
BEGIN:VTIMEZONE
TZID:Europe/Berlin
BEGIN:DAYLIGHT
TZOFFSETFROM:+0100
TZOFFSETTO:+0200
TZNAME:CEST
DTSTART:20180325T010000
END:DAYLIGHT
BEGIN:STANDARD
TZOFFSETFROM:+0200
TZOFFSETTO:+0100
TZNAME:CET
DTSTART:20181028T010000
END:STANDARD
BEGIN:DAYLIGHT
TZOFFSETFROM:+0100
TZOFFSETTO:+0200
TZNAME:CEST
DTSTART:20190331T010000
END:DAYLIGHT
BEGIN:STANDARD
TZOFFSETFROM:+0200
TZOFFSETTO:+0100
TZNAME:CET
DTSTART:20191027T010000
END:STANDARD
BEGIN:DAYLIGHT
TZOFFSETFROM:+0100
TZOFFSETTO:+0200
TZNAME:CEST
DTSTART:20200329T010000
END:DAYLIGHT
BEGIN:STANDARD
TZOFFSETFROM:+0200
TZOFFSETTO:+0100
TZNAME:CET
DTSTART:20201025T010000
END:STANDARD
END:VTIMEZONE
BEGIN:VEVENT
DTSTART;TZID=Europe/Berlin:20190720T093000
DTEND;TZID=Europe/Berlin:20190720T103000
DTSTAMP:20260423T184452
CREATED:20181117T103446Z
LAST-MODIFIED:20200802T104846Z
UID:1380-1563615000-1563618600@judo-herrenberg.de
SUMMARY:„Functional Fitness“
DESCRIPTION:Liebe Vereinsmitglieder\, \nwie bereits angekündigt laden wir Euch/Sie hiermit herzlich dazu ein\, am neu gegründeten Angebot des JC Herrenberg teilzunehmen. Das Besondere daran ist\, dass wirklich jeder mitmachen kann\, es den ganzen Körper trainiert und die Übungen so sinnvoll zusammen-gestellt sind\, dass jeder daran Spaß hat. Das funktionelle Training hat seinen Namen daher\, da mehrere Bewegungsformen miteinander kombiniert werden; diese begegnen uns so auch häufig im Alltag. Aus diesem Grund ist das Angebot für alle etwas\, die einfach Spaß an der Bewegung haben\, ihre Beweglichkeit ausbauen möchten\, das körperliche Wohlbefinden steigern wollen oder sich gerne in der Gruppe körperlich betätigen. Das Trainingsgerät ist der eigene Körper. So kann man auf effektive Art und Weise etwas für seine Gesundheit tun\, ganz egal ob man selber Anfänger\, Wiedereinsteiger oder fortgeschritten ist. Der Spaß steht im Vordergrund und falls Ihr Euch nicht sicher seid\, kommt einfach vorbei und trainiert mit uns gemeinsam! Teilnehmen kann jedes Mitglied ab 12 Jahren. Wir freuen uns auf Euch! \nOrt: Dojo des Judoclub Herrenberg in der Markweghalle im Schießtäle\, 71083 Herrenberg \nTermine wie folgt: \n\nSa\, 24.11.2018 – 9.30 Uhr – 10.30 Uhr\nSa\, 15.12.2018 – 9.30 Uhr – 10.30 Uhr\nSa\, 26.01.2019 – 9.30 Uhr – 10.30 Uhr\nSa\, 23.02.2019 – 9.30 Uhr – 10.30 Uhr\nSa\, 23.03.2019 – 9.30 Uhr – 10.30 Uhr\nSa\, 13.04.2019 – 9.30 Uhr – 10.30 Uhr\nSa\, 25.05.2019 – 9.30 Uhr – 10.30 Uhr\nSa\, 29.06.2019 – 9.30 Uhr – 10.30 Uhr\nSa\, 20.07.2019 – 9.30 Uhr – 10.30 Uhr
URL:https://judo-herrenberg.de/event/functional-fitness-9/
LOCATION:Markweghalle Herrenberg\, Schießtäle 31\, Herrenberg\, Baden-Württemberg\, 71083\, Deutschland
ATTACH;FMTTYPE=image/jpeg:https://judo-herrenberg.de/wp-content/uploads/2017/12/Termin_News_640.jpg
END:VEVENT
END:VCALENDAR