BEGIN:VCALENDAR
VERSION:2.0
PRODID:-//Judo-Club Herrenberg e.V. - ECPv6.15.17//NONSGML v1.0//EN
CALSCALE:GREGORIAN
METHOD:PUBLISH
X-ORIGINAL-URL:https://judo-herrenberg.de
X-WR-CALDESC:Veranstaltungen für Judo-Club Herrenberg e.V.
REFRESH-INTERVAL;VALUE=DURATION:PT1H
X-Robots-Tag:noindex
X-PUBLISHED-TTL:PT1H
BEGIN:VTIMEZONE
TZID:Europe/Berlin
BEGIN:DAYLIGHT
TZOFFSETFROM:+0100
TZOFFSETTO:+0200
TZNAME:CEST
DTSTART:20210328T010000
END:DAYLIGHT
BEGIN:STANDARD
TZOFFSETFROM:+0200
TZOFFSETTO:+0100
TZNAME:CET
DTSTART:20211031T010000
END:STANDARD
BEGIN:DAYLIGHT
TZOFFSETFROM:+0100
TZOFFSETTO:+0200
TZNAME:CEST
DTSTART:20220327T010000
END:DAYLIGHT
BEGIN:STANDARD
TZOFFSETFROM:+0200
TZOFFSETTO:+0100
TZNAME:CET
DTSTART:20221030T010000
END:STANDARD
BEGIN:DAYLIGHT
TZOFFSETFROM:+0100
TZOFFSETTO:+0200
TZNAME:CEST
DTSTART:20230326T010000
END:DAYLIGHT
BEGIN:STANDARD
TZOFFSETFROM:+0200
TZOFFSETTO:+0100
TZNAME:CET
DTSTART:20231029T010000
END:STANDARD
END:VTIMEZONE
BEGIN:VEVENT
DTSTART;TZID=Europe/Berlin:20220602T080000
DTEND;TZID=Europe/Berlin:20220602T170000
DTSTAMP:20260422T235705
CREATED:20220602T182521Z
LAST-MODIFIED:20220602T182521Z
UID:2563-1654156800-1654189200@judo-herrenberg.de
SUMMARY:Kappelbergturnier u15/u18
DESCRIPTION:Treffpunkt: N.N.\nBetreuer: N.N. \nFür die Wettkampfteilnahme bitte mindestens eine Woche vor dem Termin beim Trainer anmelden. \nWichtig: Unbedingt am Tag vor dem Wettkampf den Treffpunkt nochmals überprüfen\, falls dieser aktualisiert wurde. Judo-Pass am Wettkampftag nicht vergessen! \nAusschreibung folgt.
URL:https://judo-herrenberg.de/event/kappelbergturnier-u15-u18-2/
LOCATION:Fellbach\, Fellbach\, Deutschland
END:VEVENT
BEGIN:VEVENT
DTSTART;TZID=Europe/Berlin:20220624T163000
DTEND;TZID=Europe/Berlin:20220624T190000
DTSTAMP:20260422T235705
CREATED:20220515T183808Z
LAST-MODIFIED:20220612T174659Z
UID:2500-1656088200-1656097200@judo-herrenberg.de
SUMMARY:Gürtelprüfung Herrenberg
DESCRIPTION:Die Gürtelprüfung findet am 24.6. im Judoraum der Markweghalle Herrenberg statt.\nZugelassene Judoka werden in zwei Gruppen zu folgenden Zeiten geprüft: \nGruppe 1: u10: 16:30-17:30 Uhr\nGruppe 2: u12/u14: 17:30-19: Uhr \nWichtig:  Alle Prüflinge ab dem gelben Gürtel bringen bitte ihren Judo-Pass mit\, Prüflinge der u12/u14 zusätzlich ihr Trainingstagebuch.
URL:https://judo-herrenberg.de/event/guertelpruefung-herrenberg/
LOCATION:Dojo Markweghalle\, Schießtäle 31\, Herrenberg\, 71083\, Deutschland
END:VEVENT
BEGIN:VEVENT
DTSTART;TZID=Europe/Berlin:20220625T091500
DTEND;TZID=Europe/Berlin:20220625T150000
DTSTAMP:20260422T235705
CREATED:20220428T093954Z
LAST-MODIFIED:20220623T074901Z
UID:2482-1656148500-1656169200@judo-herrenberg.de
SUMMARY:Judo-Safari
DESCRIPTION:Treffpunkt: 9:15  Uhr vor der Stadionhalle in Horb\nBetreuer: Jonas Baumgart \nDer Judo-Club Horb richtet dieses Jahr wieder eine Judo-Safari aus. Teilnehmen dürfen alle Judoka des Jahrgangs 2008 und jünger. \nFür die Teilnahme bitte bis zum 3. Juni  beim Trainer anmelden. \nWichtig: Judo-Pass nicht vergessen! \nAlle weiteren Information zur Judo-Safari findet ihr in der offiziellen Ausschreibung  (Download Ausschreibung)
URL:https://judo-herrenberg.de/event/judo-safari/
LOCATION:Große Stadionhalle\, Stadionstraße 27\, Horb am Neckar\, 72169\, Deutschland
END:VEVENT
END:VCALENDAR