BEGIN:VCALENDAR
VERSION:2.0
PRODID:-//Judo-Club Herrenberg e.V. - ECPv6.15.17//NONSGML v1.0//EN
CALSCALE:GREGORIAN
METHOD:PUBLISH
X-ORIGINAL-URL:https://judo-herrenberg.de
X-WR-CALDESC:Veranstaltungen für Judo-Club Herrenberg e.V.
REFRESH-INTERVAL;VALUE=DURATION:PT1H
X-Robots-Tag:noindex
X-PUBLISHED-TTL:PT1H
BEGIN:VTIMEZONE
TZID:Europe/Berlin
BEGIN:DAYLIGHT
TZOFFSETFROM:+0100
TZOFFSETTO:+0200
TZNAME:CEST
DTSTART:20210328T010000
END:DAYLIGHT
BEGIN:STANDARD
TZOFFSETFROM:+0200
TZOFFSETTO:+0100
TZNAME:CET
DTSTART:20211031T010000
END:STANDARD
BEGIN:DAYLIGHT
TZOFFSETFROM:+0100
TZOFFSETTO:+0200
TZNAME:CEST
DTSTART:20220327T010000
END:DAYLIGHT
BEGIN:STANDARD
TZOFFSETFROM:+0200
TZOFFSETTO:+0100
TZNAME:CET
DTSTART:20221030T010000
END:STANDARD
BEGIN:DAYLIGHT
TZOFFSETFROM:+0100
TZOFFSETTO:+0200
TZNAME:CEST
DTSTART:20230326T010000
END:DAYLIGHT
BEGIN:STANDARD
TZOFFSETFROM:+0200
TZOFFSETTO:+0100
TZNAME:CET
DTSTART:20231029T010000
END:STANDARD
END:VTIMEZONE
BEGIN:VEVENT
DTSTART;TZID=Europe/Berlin:20220326T110000
DTEND;TZID=Europe/Berlin:20220326T163000
DTSTAMP:20260422T200713
CREATED:20220226T155117Z
LAST-MODIFIED:20220326T101033Z
UID:2392-1648292400-1648312200@judo-herrenberg.de
SUMMARY:Ausflug in die Sprungbude Stuttgart
DESCRIPTION:Treffpunkt: Bahnhof Herrenberg\, Gleis 2\nBetreuer: Jugendvorstand \n  \nWann? Samstag\, 26.03.2022\nStart: 11:00 Uhr\nEnde: 16:45 Uhr\nWo? Treffpunkt und Rückkehr am Gleis 2 in Herrenberg am Bahnhof\nKosten? Eigenanteil von 15€\nVorgeschriebenes Mindestalter: 8 Jahre \nWas mitbringen? \n\nUnterschriebene Einverständniserklärung\nSprungbuden-Socken (falls vorhanden)\nFalls vorhanden eine Bahnkarte\nAusweis (z. B. Schülerausweis)\nSportkleidung\n\nMehr Details zum Event und das Anmeldeformular findet ihr HIER.
URL:https://judo-herrenberg.de/event/ausflug-in-die-sprungbude/
ATTACH;FMTTYPE=image/jpeg:https://judo-herrenberg.de/wp-content/uploads/2017/07/Veranstaltung_Termin_News.jpg
END:VEVENT
END:VCALENDAR