BEGIN:VCALENDAR
VERSION:2.0
PRODID:-//Judo-Club Herrenberg e.V. - ECPv6.15.17//NONSGML v1.0//EN
CALSCALE:GREGORIAN
METHOD:PUBLISH
X-ORIGINAL-URL:https://judo-herrenberg.de
X-WR-CALDESC:Veranstaltungen für Judo-Club Herrenberg e.V.
REFRESH-INTERVAL;VALUE=DURATION:PT1H
X-Robots-Tag:noindex
X-PUBLISHED-TTL:PT1H
BEGIN:VTIMEZONE
TZID:Europe/Berlin
BEGIN:DAYLIGHT
TZOFFSETFROM:+0100
TZOFFSETTO:+0200
TZNAME:CEST
DTSTART:20170326T010000
END:DAYLIGHT
BEGIN:STANDARD
TZOFFSETFROM:+0200
TZOFFSETTO:+0100
TZNAME:CET
DTSTART:20171029T010000
END:STANDARD
BEGIN:DAYLIGHT
TZOFFSETFROM:+0100
TZOFFSETTO:+0200
TZNAME:CEST
DTSTART:20180325T010000
END:DAYLIGHT
BEGIN:STANDARD
TZOFFSETFROM:+0200
TZOFFSETTO:+0100
TZNAME:CET
DTSTART:20181028T010000
END:STANDARD
BEGIN:DAYLIGHT
TZOFFSETFROM:+0100
TZOFFSETTO:+0200
TZNAME:CEST
DTSTART:20190331T010000
END:DAYLIGHT
BEGIN:STANDARD
TZOFFSETFROM:+0200
TZOFFSETTO:+0100
TZNAME:CET
DTSTART:20191027T010000
END:STANDARD
END:VTIMEZONE
BEGIN:VEVENT
DTSTART;TZID=Europe/Berlin:20180703T183000
DTEND;TZID=Europe/Berlin:20180703T203000
DTSTAMP:20260423T171415
CREATED:20180310T104832Z
LAST-MODIFIED:20200802T105534Z
UID:1077-1530642600-1530649800@judo-herrenberg.de
SUMMARY:Schwarzwald-Randori
DESCRIPTION:Schwarzwald-Randori\nBetreuer:  N.N. \nDie Ausschreibung mit Wiegezeiten und Austragungsort könnt Ihr als PDF-Dokument runterladen: \nAusschreibung zum Download
URL:https://judo-herrenberg.de/event/schwarzwald-randori-3/
LOCATION:Freudenstadt\, Landhausstrasse 3\, Freudenstadt\, 72250\, Deutschland
ATTACH;FMTTYPE=image/jpeg:https://judo-herrenberg.de/wp-content/uploads/2017/12/Termin_News_640.jpg
END:VEVENT
BEGIN:VEVENT
DTSTART;TZID=Europe/Berlin:20180721T090000
DTEND;TZID=Europe/Berlin:20180721T120000
DTSTAMP:20260423T171415
CREATED:20180430T081417Z
LAST-MODIFIED:20180430T081417Z
UID:1211-1532163600-1532174400@judo-herrenberg.de
SUMMARY:Workshop Athletik-Training mit den Experten von A.P.E. - Athletik Training
DESCRIPTION:Liebe Sportfreunde und Kollegen\, \nhiermit möchte ich Euch zu unserem Workshop Athletik-Training mit den Experten von A.P.E. – Athletik Training einladen. \nDatum:                21.07.2018\nZeit:                      09.00 – 12.00 Uhr  \nOrt:                       Dojo Markweghalle in Herrenberg \nAblauf und Inhalte: \nTheoretische Grundlagen \n\nWas ist Funktionelles Training\nWarum Funktionales Training im Kampfsport\nMerkmale von funktionellem Training\nAufbau einer funktionellen Trainingseinheit\nKomponenten einer funktionellen Trainingseinheit\nKrafttraining unter funktionellen Gesichtspunkten\ntraditionelles Warm up vs. funktionelles “Pillar & Movement Prep”\nVorstellungen einiger Trainingsmittel und Vermittlung der wichtigsten Grundtechniken\nZum Beispiel: \n\nKettlebell\nBulgarian Training Bag\nSeil / Tau\nSuspension Trainer\n\n\n\nWorkout \n\nBeispielhaftes Workout eines typischen “funktionellen” Konditionszirkels zur Steigerung der kampfsportspezifischen Belastungsanforderung\n\nOffene Fragen \nDie Zielsetzung liegt unter anderem darin\, dass wir nach den Sommerferien für unsere Mitglieder eine zusätzliche Trainingseinheit „Functional Fitness“ etablieren möchten. Dieser Workshop dient als Kick-Off\, soll uns von externen Experten Anregungen geben und insgesamt „Lust auf mehr“ machen. \nDer Teilnehmerkreis ist beschränkt auf die internen Stakeholder\, also Ausschussmitglieder\, Trainer und engagierte Vereinsmitglieder. \nGerne nehmen wir für den Workshop einen freiwilligen Unkostenbeitrag entgegen. Bitte gebt mir Bescheid\, ob Euch eine Teilnahme möglich ist.                    \nBeste Grüße\nTilo
URL:https://judo-herrenberg.de/event/workshop-athletik-training-mit-den-experten-von-a-p-e-athletik-training/
LOCATION:Andreae gymnasium herrenberg\, Deutschland
ATTACH;FMTTYPE=image/jpeg:https://judo-herrenberg.de/wp-content/uploads/2017/12/Termin_News_640.jpg
END:VEVENT
END:VCALENDAR