BEGIN:VCALENDAR
VERSION:2.0
PRODID:-//Judo-Club Herrenberg e.V. - ECPv6.15.17//NONSGML v1.0//EN
CALSCALE:GREGORIAN
METHOD:PUBLISH
X-ORIGINAL-URL:https://judo-herrenberg.de
X-WR-CALDESC:Veranstaltungen für Judo-Club Herrenberg e.V.
REFRESH-INTERVAL;VALUE=DURATION:PT1H
X-Robots-Tag:noindex
X-PUBLISHED-TTL:PT1H
BEGIN:VTIMEZONE
TZID:Europe/Berlin
BEGIN:DAYLIGHT
TZOFFSETFROM:+0100
TZOFFSETTO:+0200
TZNAME:CEST
DTSTART:20210328T010000
END:DAYLIGHT
BEGIN:STANDARD
TZOFFSETFROM:+0200
TZOFFSETTO:+0100
TZNAME:CET
DTSTART:20211031T010000
END:STANDARD
BEGIN:DAYLIGHT
TZOFFSETFROM:+0100
TZOFFSETTO:+0200
TZNAME:CEST
DTSTART:20220327T010000
END:DAYLIGHT
BEGIN:STANDARD
TZOFFSETFROM:+0200
TZOFFSETTO:+0100
TZNAME:CET
DTSTART:20221030T010000
END:STANDARD
BEGIN:DAYLIGHT
TZOFFSETFROM:+0100
TZOFFSETTO:+0200
TZNAME:CEST
DTSTART:20230326T010000
END:DAYLIGHT
BEGIN:STANDARD
TZOFFSETFROM:+0200
TZOFFSETTO:+0100
TZNAME:CET
DTSTART:20231029T010000
END:STANDARD
END:VTIMEZONE
BEGIN:VEVENT
DTSTART;TZID=Europe/Berlin:20220702T080000
DTEND;TZID=Europe/Berlin:20220702T170000
DTSTAMP:20260421T190515
CREATED:20220525T092152Z
LAST-MODIFIED:20220525T092152Z
UID:2524-1656748800-1656781200@judo-herrenberg.de
SUMMARY:Landesliga - KT 1
DESCRIPTION:1. Kampftag der Landesliga Nord (Männer 1)
URL:https://judo-herrenberg.de/event/landesliga-kt-1/
END:VEVENT
BEGIN:VEVENT
DTSTART;VALUE=DATE:20220709
DTEND;VALUE=DATE:20220710
DTSTAMP:20260421T190515
CREATED:20220321T230522Z
LAST-MODIFIED:20220703T202733Z
UID:2424-1657324800-1657411199@judo-herrenberg.de
SUMMARY:20. Internationales Judoturnier im Glaspalast u11 / u15 / u21
DESCRIPTION:Treffpunkt: 6:45 Uhr am Hallenbad Herrenberg\nBetreuer: Lukas Horst\, Henrik Riester \nFür die Wettkampfteilnahme bitte mindestens eine Woche vor dem Termin beim Trainer anmelden. \nWichtig: Unbedingt am Tag vor dem Wettkampf den Treffpunkt nochmals überprüfen\, falls dieser aktualisiert wurde. Judo-Pass am Wettkampftag nicht vergessen! \nAlle weiteren Information zum Wettkampf findet ihr in der offiziellen Ausschreibung (Download Ausschreibung).
URL:https://judo-herrenberg.de/event/20-internationales-judoturnier-im-glaspalast-u11-u15-u21/
LOCATION:Glaspalast Sindelfingen\, Rudolf-Harbig-Straße 10\, Sindelfingen\, 71063\, Deutschland
END:VEVENT
BEGIN:VEVENT
DTSTART;VALUE=DATE:20220716
DTEND;VALUE=DATE:20220717
DTSTAMP:20260421T190515
CREATED:20220321T231217Z
LAST-MODIFIED:20220714T082844Z
UID:2431-1657929600-1658015999@judo-herrenberg.de
SUMMARY:ABGESAGT - Rosensteinpokal u13 / u15
DESCRIPTION:Wettkampf wurde vom Veranstalter abgesagt. \nDas Rosensteinpokalturnier für die u11 am Sonntag findet jedoch statt!
URL:https://judo-herrenberg.de/event/rosensteinpokal-u13-u15/
LOCATION:Sporthalle der Realschule Heubach\, Adlerstraße 80\, Heubach\, 73540
END:VEVENT
BEGIN:VEVENT
DTSTART;VALUE=DATE:20220717
DTEND;VALUE=DATE:20220718
DTSTAMP:20260421T190515
CREATED:20220321T231312Z
LAST-MODIFIED:20220530T210428Z
UID:2433-1658016000-1658102399@judo-herrenberg.de
SUMMARY:Rosensteinpokal u9 / u11
DESCRIPTION:Treffpunkt: Selbstständige Anreise\, je nach Wiegezeit.\nBetreuer: Jonas Baumgart \nFür die Wettkampfteilnahme bitte mindestens eine Woche vor dem Termin beim Trainer anmelden. \nWichtig: Unbedingt am Tag vor dem Wettkampf den Treffpunkt nochmals überprüfen\, falls dieser aktualisiert wurde. Judo-Pass am Wettkampftag nicht vergessen! \nAlle weiteren Informationen zum Wettkampf findet ihr in der offiziellen Ausschreibung (Download Ausschreibung).
URL:https://judo-herrenberg.de/event/rosensteinpokal-u11/
LOCATION:Sporthalle der Realschule Heubach\, Adlerstraße 80\, Heubach\, 73540
END:VEVENT
BEGIN:VEVENT
DTSTART;TZID=Europe/Berlin:20220723T080000
DTEND;TZID=Europe/Berlin:20220723T170000
DTSTAMP:20260421T190515
CREATED:20220525T092309Z
LAST-MODIFIED:20220525T092806Z
UID:2526-1658563200-1658595600@judo-herrenberg.de
SUMMARY:Landesliga - KT 2
DESCRIPTION:2. Kampftag der Landesliga Nord (Männer 1)
URL:https://judo-herrenberg.de/event/landesliga-kt-2/
END:VEVENT
BEGIN:VEVENT
DTSTART;TZID=Europe/Berlin:20220724T080000
DTEND;TZID=Europe/Berlin:20220724T150000
DTSTAMP:20260421T190515
CREATED:20220511T112000Z
LAST-MODIFIED:20220511T112000Z
UID:2496-1658649600-1658674800@judo-herrenberg.de
SUMMARY:Offene Baden-Württembergische Einzelmeisterschaften u15
DESCRIPTION:Treffpunkt: 8:00 Uhr am Hallenbad Herrenberg\nBetreuer: Henrik Riester \nFür die Wettkampfteilnahme bitte mindestens eine Woche vor dem Termin beim Trainer anmelden. \nWichtig: Unbedingt am Tag vor dem Wettkampf den Treffpunkt nochmals überprüfen\, falls dieser aktualisiert wurde. Judo-Pass am Wettkampftag nicht vergessen! \nAlle weiteren Information zum Wettkampf findet ihr in der offiziellen Ausschreibung (Download Ausschreibung).
URL:https://judo-herrenberg.de/event/offene-baden-wuerttembergische-einzelmeisterschaften-u15/
LOCATION:Theodor-Eisenlohr-Sporthalle\, Mühlstraße\, Nürtingen\, 72622
END:VEVENT
END:VCALENDAR